BEGIN:VCALENDAR
VERSION:2.0
PRODID:-//ZContent.net//Zap Calendar 1.0//EN
CALSCALE:GREGORIAN
METHOD:PUBLISH
BEGIN:VEVENT
DTSTAMP:20260424T055259
UID:20211111T090000@energyhub.eu/1970
DTSTART:20211111T090000
DTEND:20211114T180000
SUMMARY:e-SALON
LOCATION: PVA EXPO PRAHA, Beranových 667, 199 00 Praha 9 - Letňany
DESCRIPTION:e-SALON: PVA EXPO PRAHA, Beranových 667, 199 00 Praha 9 - Letňany
LAST-MODIFIED:20260424T055259
END:VEVENT
END:VCALENDAR
