BEGIN:VCALENDAR
VERSION:2.0
PRODID:-//ZContent.net//Zap Calendar 1.0//EN
CALSCALE:GREGORIAN
METHOD:PUBLISH
BEGIN:VEVENT
DTSTAMP:20260419T134516
UID:20230126T123000@energyhub.eu/2368
DTSTART:20230126T123000
DTEND:20230127T123000
SUMMARY:INVESTICE - ENERGETIKA - DOBRÁ PRAXE
LOCATION: Brno, 26.1. Nová radnice, 27.1. přednáškové prostory Ekonomicko-správní fakulty Masarykovy univerzity
DESCRIPTION:INVESTICE - ENERGETIKA - DOBRÁ PRAXE: Brno, 26.1. Nová radnice, 27.1. přednáškové prostory Ekonomicko-správní fakulty Masarykovy univerzity
LAST-MODIFIED:20260419T134516
END:VEVENT
END:VCALENDAR
